BEGIN:VCALENDAR
VERSION:2.0
PRODID:-//Itchen Valley Parish Council//Meeting Calendar//EN
CALSCALE:GREGORIAN
METHOD:PUBLISH
BEGIN:VEVENT
UID:70449-20230119@itchenvalleyparishcouncil.gov.uk
DTSTAMP:20260422T083454Z
DTSTART;VALUE=DATE:20230119
DTEND;VALUE=DATE:20230120
SUMMARY:Planning Meetings &#8211\\; 2023
DESCRIPTION:Planning Committee Meeting\nView details: https://itchenvalleyparishcouncil.gov.uk/meetings/planning-meetings-2023/
URL:https://itchenvalleyparishcouncil.gov.uk/meetings/planning-meetings-2023/
END:VEVENT
END:VCALENDAR
