BEGIN:VCALENDAR
VERSION:2.0
PRODID:-//Itchen Valley Parish Council//Meeting Calendar//EN
CALSCALE:GREGORIAN
METHOD:PUBLISH
BEGIN:VEVENT
UID:70680-20241010@itchenvalleyparishcouncil.gov.uk
DTSTAMP:20260422T094608Z
DTSTART;VALUE=DATE:20241010
DTEND;VALUE=DATE:20241011
SUMMARY:Council Meeting &#8211\\; 10th October 2024
DESCRIPTION:Full Council Meeting\nView details: https://itchenvalleyparishcouncil.gov.uk/meetings/council-meeting-10th-october-2024/
URL:https://itchenvalleyparishcouncil.gov.uk/meetings/council-meeting-10th-october-2024/
END:VEVENT
END:VCALENDAR
