BEGIN:VCALENDAR
VERSION:2.0
PRODID:-//Itchen Valley Parish Council//Meeting Calendar//EN
CALSCALE:GREGORIAN
METHOD:PUBLISH
BEGIN:VEVENT
UID:70744-20250424@itchenvalleyparishcouncil.gov.uk
DTSTAMP:20260421T085442Z
DTSTART;VALUE=DATE:20250424
DTEND;VALUE=DATE:20250425
SUMMARY:Annual Parish Meeting &#8211\\; 7pm on Thursday 24 April 2025
DESCRIPTION:Annual Meeting\nView details: https://itchenvalleyparishcouncil.gov.uk/meetings/annual-parish-meeting-24-april-2025/
URL:https://itchenvalleyparishcouncil.gov.uk/meetings/annual-parish-meeting-24-april-2025/
END:VEVENT
END:VCALENDAR
