BEGIN:VCALENDAR
VERSION:2.0
PRODID:-//Itchen Valley Parish Council//Meeting Calendar//EN
CALSCALE:GREGORIAN
METHOD:PUBLISH
BEGIN:VEVENT
UID:70745-20250501@itchenvalleyparishcouncil.gov.uk
DTSTAMP:20260419T141259Z
DTSTART;VALUE=DATE:20250501
DTEND;VALUE=DATE:20250502
SUMMARY:Annual Meeting of the Council &#8211\\; 1 May 2025
DESCRIPTION:Annual Meeting\nView details: https://itchenvalleyparishcouncil.gov.uk/meetings/annual-council-meeting-8-may-2025/
URL:https://itchenvalleyparishcouncil.gov.uk/meetings/annual-council-meeting-8-may-2025/
END:VEVENT
END:VCALENDAR
