BEGIN:VCALENDAR
VERSION:2.0
PRODID:-//Itchen Valley Parish Council//Meeting Calendar//EN
CALSCALE:GREGORIAN
METHOD:PUBLISH
BEGIN:VEVENT
UID:71761-20260514@itchenvalleyparishcouncil.gov.uk
DTSTAMP:20260424T124914Z
DTSTART;VALUE=DATE:20260514
DTEND;VALUE=DATE:20260515
SUMMARY:Annual Meeting of the Council &#8211\\; 14 May 2026
DESCRIPTION:Annual Meeting\nView details: https://itchenvalleyparishcouncil.gov.uk/meetings/annual-meeting-of-the-council-14-may-2026/
URL:https://itchenvalleyparishcouncil.gov.uk/meetings/annual-meeting-of-the-council-14-may-2026/
END:VEVENT
END:VCALENDAR
